BEGIN:VCALENDAR
VERSION:2.0
PRODID:-//SEMIYAS-EVENTS//DE
CALSCALE:GREGORIAN
METHOD:PUBLISH
BEGIN:VEVENT
UID:se-7999@semiyas.vision
DTSTAMP:20260420T172903Z
DTSTART:20260425T060000Z
DTEND:20260425T100000Z
SUMMARY:Oma/Opa &#038\; Enkel Kreativtag
DESCRIPTION:An diesem Tag sind alle Großeltern mit Enkeln von 6 -10 Jahren herzlich eingeladen				\n		... mit Pinsel\, Farbe\, Papier &amp\; Co. die gemeinsame Beziehung durch Kreativität zu vertiefen! Enkelkinder lernen noch fürs Leben und Großeltern haben einen riesigen Schatz an Weisheit\, Geduld\, Erfahrung. Doch auch in den Enkeln schlummern frische Ideen und unbefangene Vorstellungen\, welche die Großeltern sehr wohl verblüffen können. Die Kreativität kann solch einen Austausch ermöglichen. Neue Sichtweisen im Handwerk entdecken und das Erleben von gemeinsamen Leidenschaften - darum geht es an diesem Tag.Es sind keine künstlerischen Vorkenntnisse erforderlich. Bei Interesse kann der Kurs auch an einem anderen Ort abgehalten werden.		\n					Leistung:				\n							\n							\n										inkl. Bastelmaterial\n									\n						\n		https://youtu.be/0ey8qDM40ew%20target=\n\nOrt: Offenes Kunst- und Kulturhaus Vöcklabruck\, Hans Hatschek-Straße 24\, 4840 Vöcklabruck\, Österreich\n\nGoogle Maps: https://maps.app.goo.gl/qkwXs7yA5Ny7KmeQA\n\nSeminar: https://team-f.at/semiyas-event/oma-opa-und-enkel-kreativtag/
LOCATION:Offenes Kunst- und Kulturhaus Vöcklabruck\, Hans Hatschek-Straße 24\, 4840 Vöcklabruck\, Österreich
URL:https://team-f.at/semiyas-event/oma-opa-und-enkel-kreativtag/
X-APPLE-STRUCTURED-LOCATION;VALUE=URI;X-TITLE=Offenes Kunst- und Kulturhaus Vöcklabruck\, Hans Hatschek-Straße 24\, 4840 Vöcklabruck\, Österreich:https://maps.app.goo.gl/qkwXs7yA5Ny7KmeQA
END:VEVENT
END:VCALENDAR